BEGIN:VCALENDAR
VERSION:2.0
PRODID:-//San Lorenzo Family Help Center - ECPv6.15.17.1//NONSGML v1.0//EN
CALSCALE:GREGORIAN
METHOD:PUBLISH
X-ORIGINAL-URL:https://www.slzhelp.org
X-WR-CALDESC:Events for San Lorenzo Family Help Center
REFRESH-INTERVAL;VALUE=DURATION:PT1H
X-Robots-Tag:noindex
X-PUBLISHED-TTL:PT1H
BEGIN:VTIMEZONE
TZID:UTC
BEGIN:STANDARD
TZOFFSETFROM:+0000
TZOFFSETTO:+0000
TZNAME:UTC
DTSTART:20230101T000000
END:STANDARD
END:VTIMEZONE
BEGIN:VTIMEZONE
TZID:America/Los_Angeles
BEGIN:DAYLIGHT
TZOFFSETFROM:-0800
TZOFFSETTO:-0700
TZNAME:PDT
DTSTART:20230312T100000
END:DAYLIGHT
BEGIN:STANDARD
TZOFFSETFROM:-0700
TZOFFSETTO:-0800
TZNAME:PST
DTSTART:20231105T090000
END:STANDARD
BEGIN:DAYLIGHT
TZOFFSETFROM:-0800
TZOFFSETTO:-0700
TZNAME:PDT
DTSTART:20240310T100000
END:DAYLIGHT
BEGIN:STANDARD
TZOFFSETFROM:-0700
TZOFFSETTO:-0800
TZNAME:PST
DTSTART:20241103T090000
END:STANDARD
BEGIN:DAYLIGHT
TZOFFSETFROM:-0800
TZOFFSETTO:-0700
TZNAME:PDT
DTSTART:20250309T100000
END:DAYLIGHT
BEGIN:STANDARD
TZOFFSETFROM:-0700
TZOFFSETTO:-0800
TZNAME:PST
DTSTART:20251102T090000
END:STANDARD
END:VTIMEZONE
BEGIN:VEVENT
DTSTART;TZID=UTC:20240824T103000
DTEND;TZID=UTC:20240824T153000
DTSTAMP:20260419T224613
CREATED:20240805T084907Z
LAST-MODIFIED:20240805T084910Z
UID:1664-1724495400-1724513400@www.slzhelp.org
SUMMARY:Food Pick Up @SLFHC - Aug 24th
DESCRIPTION:Appointments:\nYou must have an appointment to receive food. Please make your first appointment by calling: (341) 314-6770 during our open hours. \nOpen Hours:\n\nMondays\, Fridays\, and Saturdays – 10:30 AM to 3:30 PM\nWednesdays 10:30 AM to 1:00 PM\n\nFor what to expect visit our FAQ page . For questions and other information\, please contact us by emailing slzfoodbank@gmail.com. \nThe San Lorenzo Family Help Center is managed by our Executive Director Janelle Morimoto.
URL:https://www.slzhelp.org/event/food-pick-up-slfhc-aug-24th/
LOCATION:San Lorenzo Family Help Center\, 20960 Corsair Blvd\, Hayward \, CA\, United States
CATEGORIES:Food Pick Up
END:VEVENT
BEGIN:VEVENT
DTSTART;TZID=UTC:20240823T103000
DTEND;TZID=UTC:20240823T153000
DTSTAMP:20260419T224613
CREATED:20240805T084750Z
LAST-MODIFIED:20240805T084753Z
UID:1662-1724409000-1724427000@www.slzhelp.org
SUMMARY:Food Pick Up @SLFHC - Aug 23rd
DESCRIPTION:Appointments:\nYou must have an appointment to receive food. Please make your first appointment by calling: (341) 314-6770 during our open hours. \nOpen Hours:\n\nMondays\, Fridays\, and Saturdays – 10:30 AM to 3:30 PM\nWednesdays 10:30 AM to 1:00 PM\n\nFor what to expect visit our FAQ page . For questions and other information\, please contact us by emailing slzfoodbank@gmail.com. \nThe San Lorenzo Family Help Center is managed by our Executive Director Janelle Morimoto.
URL:https://www.slzhelp.org/event/food-pick-up-slfhc-aug-23rd/
LOCATION:San Lorenzo Family Help Center\, 20960 Corsair Blvd\, Hayward \, CA\, United States
CATEGORIES:Food Pick Up
END:VEVENT
BEGIN:VEVENT
DTSTART;TZID=UTC:20240821T103000
DTEND;TZID=UTC:20240821T133000
DTSTAMP:20260419T224613
CREATED:20240805T085715Z
LAST-MODIFIED:20240805T085730Z
UID:1674-1724236200-1724247000@www.slzhelp.org
SUMMARY:Food Pick Up @SLFHC - Aug 21st
DESCRIPTION:Appointments:\nYou must have an appointment to receive food. Please make your first appointment by calling: (341) 314-6770 during our open hours. \nOpen Hours:\n\nMondays\, Fridays\, and Saturdays – 10:30 AM to 3:30 PM\nWednesdays 10:30 AM to 1:00 PM\n\nFor what to expect visit our FAQ page . For questions and other information\, please contact us by emailing slzfoodbank@gmail.com. \nThe San Lorenzo Family Help Center is managed by our Executive Director Janelle Morimoto.
URL:https://www.slzhelp.org/event/food-pick-up-slfhc-aug-21th/
LOCATION:San Lorenzo Family Help Center\, 20960 Corsair Blvd\, Hayward \, CA\, United States
CATEGORIES:Food Pick Up
END:VEVENT
BEGIN:VEVENT
DTSTART;TZID=UTC:20240819T103000
DTEND;TZID=UTC:20240819T153000
DTSTAMP:20260419T224613
CREATED:20240805T084641Z
LAST-MODIFIED:20240805T084644Z
UID:1660-1724063400-1724081400@www.slzhelp.org
SUMMARY:Food Pick Up @SLHFC - Aug 19th
DESCRIPTION:Appointments:\nYou must have an appointment to receive food. Please make your first appointment by calling: (341) 314-6770 during our open hours. \nOpen Hours:\n\nMondays\, Fridays\, and Saturdays – 10:30 AM to 3:30 PM\nWednesdays 10:30 AM to 1:00 PM\n\nFor what to expect visit our FAQ page . For questions and other information\, please contact us by emailing slzfoodbank@gmail.com. \nThe San Lorenzo Family Help Center is managed by our Executive Director Janelle Morimoto.
URL:https://www.slzhelp.org/event/food-pick-up-slhfc-aug-19th/
LOCATION:San Lorenzo Family Help Center\, 20960 Corsair Blvd\, Hayward \, CA\, United States
CATEGORIES:Food Pick Up
END:VEVENT
BEGIN:VEVENT
DTSTART;TZID=UTC:20240817T103000
DTEND;TZID=UTC:20240817T153000
DTSTAMP:20260419T224613
CREATED:20240805T084522Z
LAST-MODIFIED:20240805T084525Z
UID:1658-1723890600-1723908600@www.slzhelp.org
SUMMARY:Food Pick Up @SLFHC - Aug 17th
DESCRIPTION:Appointments:\nYou must have an appointment to receive food. Please make your first appointment by calling: (341) 314-6770 during our open hours. \nOpen Hours:\n\nMondays\, Fridays\, and Saturdays – 10:30 AM to 3:30 PM\nWednesdays 10:30 AM to 1:00 PM\n\nFor what to expect visit our FAQ page . For questions and other information\, please contact us by emailing slzfoodbank@gmail.com. \nThe San Lorenzo Family Help Center is managed by our Executive Director Janelle Morimoto.
URL:https://www.slzhelp.org/event/food-pick-up-slfhc-aug-17th/
LOCATION:San Lorenzo Family Help Center\, 20960 Corsair Blvd\, Hayward \, CA\, United States
CATEGORIES:Food Pick Up
END:VEVENT
BEGIN:VEVENT
DTSTART;TZID=UTC:20240816T103000
DTEND;TZID=UTC:20240816T153000
DTSTAMP:20260419T224613
CREATED:20240805T084420Z
LAST-MODIFIED:20240805T090021Z
UID:1656-1723804200-1723822200@www.slzhelp.org
SUMMARY:Food Pick Up @SLFHC - Aug 16th
DESCRIPTION:Appointments:\nYou must have an appointment to receive food. Please make your first appointment by calling: (341) 314-6770 during our open hours. \nOpen Hours:\n\nMondays\, Fridays\, and Saturdays – 10:30 AM to 3:30 PM\nWednesdays 10:30 AM to 1:00 PM\n\nFor what to expect visit our FAQ page . For questions and other information\, please contact us by emailing slzfoodbank@gmail.com. \nThe San Lorenzo Family Help Center is managed by our Executive Director Janelle Morimoto.
URL:https://www.slzhelp.org/event/food-pick-up-slfhc-aug-16th/
LOCATION:San Lorenzo Family Help Center\, 20960 Corsair Blvd\, Hayward \, CA\, United States
CATEGORIES:Food Pick Up
END:VEVENT
BEGIN:VEVENT
DTSTART;TZID=UTC:20240814T103000
DTEND;TZID=UTC:20240814T133000
DTSTAMP:20260419T224613
CREATED:20240805T085506Z
LAST-MODIFIED:20240805T085509Z
UID:1672-1723631400-1723642200@www.slzhelp.org
SUMMARY:Food Pick Up @SLFHC - Aug 14th
DESCRIPTION:Appointments:\nYou must have an appointment to receive food. Please make your first appointment by calling: (341) 314-6770 during our open hours. \nOpen Hours:\n\nMondays\, Fridays\, and Saturdays – 10:30 AM to 3:30 PM\nWednesdays 10:30 AM to 1:00 PM\n\nFor what to expect visit our FAQ page . For questions and other information\, please contact us by emailing slzfoodbank@gmail.com. \nThe San Lorenzo Family Help Center is managed by our Executive Director Janelle Morimoto.
URL:https://www.slzhelp.org/event/food-pick-up-slfhc-aug-14th/
LOCATION:San Lorenzo Family Help Center\, 20960 Corsair Blvd\, Hayward \, CA\, United States
CATEGORIES:Food Pick Up
END:VEVENT
BEGIN:VEVENT
DTSTART;TZID=America/Los_Angeles:20240812T103000
DTEND;TZID=America/Los_Angeles:20240812T153000
DTSTAMP:20260419T224613
CREATED:20240718T104725Z
LAST-MODIFIED:20240805T105525Z
UID:1653-1723458600-1723476600@www.slzhelp.org
SUMMARY:Food Pick Up @SLFHC - Aug 12th
DESCRIPTION:Appointments:\nYou must have an appointment to receive food. Please make your first appointment by calling: (341) 314-6770 during our open hours. \nOpen Hours:\n\nMondays\, Fridays\, and Saturdays – 10:30 AM to 3:30 PM\nWednesdays 10:30 AM to 1:00 PM\n\nFor what to expect visit our FAQ page . For questions and other information\, please contact us by emailing slzfoodbank@gmail.com. \nThe San Lorenzo Family Help Center is managed by our Executive Director Janelle Morimoto.
URL:https://www.slzhelp.org/event/food-pick-up-slfhc-aug-12th/
LOCATION:San Lorenzo Family Help Center\, 20960 Corsair Blvd\, Hayward \, CA\, United States
CATEGORIES:Food Pick Up
END:VEVENT
BEGIN:VEVENT
DTSTART;TZID=America/Los_Angeles:20240810T103000
DTEND;TZID=America/Los_Angeles:20240810T153000
DTSTAMP:20260419T224613
CREATED:20240718T104349Z
LAST-MODIFIED:20240805T105501Z
UID:1651-1723285800-1723303800@www.slzhelp.org
SUMMARY:Food Pick Up @SLFHC - Aug 10th
DESCRIPTION:Appointments:\nYou must have an appointment to receive food. Please make your first appointment by calling: (341) 314-6770 during our open hours. \nOpen Hours:\n\nMondays\, Fridays\, and Saturdays – 10:30 AM to 3:30 PM\nWednesdays 10:30 AM to 1:00 PM\n\nFor what to expect visit our FAQ page . For questions and other information\, please contact us by emailing slzfoodbank@gmail.com. \nThe San Lorenzo Family Help Center is managed by our Executive Director Janelle Morimoto.
URL:https://www.slzhelp.org/event/food-pick-up-slfhc-aug-10th/
LOCATION:San Lorenzo Family Help Center\, 20960 Corsair Blvd\, Hayward \, CA\, United States
CATEGORIES:Food Pick Up
END:VEVENT
BEGIN:VEVENT
DTSTART;TZID=America/Los_Angeles:20240809T103000
DTEND;TZID=America/Los_Angeles:20240809T153000
DTSTAMP:20260419T224613
CREATED:20240718T103953Z
LAST-MODIFIED:20240805T105438Z
UID:1649-1723199400-1723217400@www.slzhelp.org
SUMMARY:Food Pick Up @SLFHC - Aug 9th
DESCRIPTION:Appointments:\nYou must have an appointment to receive food. Please make your first appointment by calling: (341) 314-6770 during our open hours. \nOpen Hours:\n\nMondays\, Fridays\, and Saturdays – 10:30 AM to 3:30 PM\nWednesdays 10:30 AM to 1:00 PM\n\nFor what to expect visit our FAQ page . For questions and other information\, please contact us by emailing slzfoodbank@gmail.com. \nThe San Lorenzo Family Help Center is managed by our Executive Director Janelle Morimoto.
URL:https://www.slzhelp.org/event/food-pick-up-slfhc-aug-9th/
LOCATION:San Lorenzo Family Help Center\, 20960 Corsair Blvd\, Hayward \, CA\, United States
CATEGORIES:Food Pick Up
END:VEVENT
BEGIN:VEVENT
DTSTART;TZID=America/Los_Angeles:20240805T103000
DTEND;TZID=America/Los_Angeles:20240805T153000
DTSTAMP:20260419T224613
CREATED:20240718T103201Z
LAST-MODIFIED:20240805T105337Z
UID:1644-1722853800-1722871800@www.slzhelp.org
SUMMARY:Food Pick Up @SLFHC - Aug 5th
DESCRIPTION:Appointments:\nYou must have an appointment to receive food. Please make your first appointment by calling: (341) 314-6770 during our open hours. \nOpen Hours:\n\nMondays\, Fridays\, and Saturdays – 10:30 AM to 3:30 PM\nWednesdays 10:30 AM to 1:00 PM\n\nFor what to expect visit our FAQ page . For questions and other information\, please contact us by emailing slzfoodbank@gmail.com. \nThe San Lorenzo Family Help Center is managed by our Executive Director Janelle Morimoto.
URL:https://www.slzhelp.org/event/food-pick-up-slfhc-aug-5th/
LOCATION:San Lorenzo Family Help Center\, 20960 Corsair Blvd\, Hayward \, CA\, United States
CATEGORIES:Food Pick Up
END:VEVENT
BEGIN:VEVENT
DTSTART;TZID=America/Los_Angeles:20240803T103000
DTEND;TZID=America/Los_Angeles:20240803T133000
DTSTAMP:20260419T224613
CREATED:20240718T102902Z
LAST-MODIFIED:20240718T102902Z
UID:1642-1722681000-1722691800@www.slzhelp.org
SUMMARY:Food Pick Up @SLFHC - Aug 3rd
DESCRIPTION:Appointments:\nYou must have an appointment to receive food. Please make your first appointment by calling: (341) 314-6770 during our open hours. \nOpen Hours:\n\nMondays\, Fridays\, and Saturdays – 10:30 AM to 3:30 PM\nWednesdays 10:30 AM to 1:00 PM\n\nFor what to expect visit our FAQ page . For questions and other information\, please contact us by emailing slzfoodbank@gmail.com. \nThe San Lorenzo Family Help Center is managed by our Executive Director Janelle Morimoto.
URL:https://www.slzhelp.org/event/food-pick-up-slfhc-aug-3rd/
LOCATION:San Lorenzo Family Help Center\, 20960 Corsair Blvd\, Hayward \, CA\, United States
CATEGORIES:Food Pick Up
END:VEVENT
BEGIN:VEVENT
DTSTART;TZID=America/Los_Angeles:20240802T103000
DTEND;TZID=America/Los_Angeles:20240802T153000
DTSTAMP:20260419T224613
CREATED:20240718T102436Z
LAST-MODIFIED:20240718T102436Z
UID:1640-1722594600-1722612600@www.slzhelp.org
SUMMARY:Food Pick Up @SLFHC - Aug 2nd
DESCRIPTION:Appointments:\nYou must have an appointment to receive food. Please make your first appointment by calling: (341) 314-6770 during our open hours. \nOpen Hours:\n\nMondays\, Fridays\, and Saturdays – 10:30 AM to 3:30 PM\nWednesdays 10:30 AM to 1:00 PM\n\nFor what to expect visit our FAQ page . For questions and other information\, please contact us by emailing slzfoodbank@gmail.com. \nThe San Lorenzo Family Help Center is managed by our Executive Director Janelle Morimoto.
URL:https://www.slzhelp.org/event/food-pick-up-slfhc-aug-2nd/
LOCATION:San Lorenzo Family Help Center\, 20960 Corsair Blvd\, Hayward \, CA\, United States
CATEGORIES:Food Pick Up
END:VEVENT
BEGIN:VEVENT
DTSTART;TZID=America/Los_Angeles:20240731T103000
DTEND;TZID=America/Los_Angeles:20240731T130000
DTSTAMP:20260419T224613
CREATED:20240616T075322Z
LAST-MODIFIED:20240616T075325Z
UID:1544-1722421800-1722430800@www.slzhelp.org
SUMMARY:Food Pick Up - July 31st
DESCRIPTION:Appointments:\nYou must have an appointment to receive food. Please make your first appointment by calling: (341) 314-6770 during our open hours. \nOpen Hours:\n\nMondays\, Fridays\, and Saturdays – 10:30 AM to 3:30 PM\nWednesdays 10:30 AM to 1:00 PM\n\nFor what to expect visit our FAQ page . For questions and other information\, please contact us by emailing slzfoodbank@gmail.com. \nThe San Lorenzo Family Help Center is managed by our Executive Director Janelle Morimoto.
URL:https://www.slzhelp.org/event/food-pick-up-july-31st/
LOCATION:San Lorenzo Family Help Center\, 20960 Corsair Blvd\, Hayward \, CA\, United States
CATEGORIES:Food Pick Up
END:VEVENT
BEGIN:VEVENT
DTSTART;TZID=America/Los_Angeles:20240729T103000
DTEND;TZID=America/Los_Angeles:20240729T153000
DTSTAMP:20260419T224613
CREATED:20240616T075136Z
LAST-MODIFIED:20240616T075139Z
UID:1542-1722249000-1722267000@www.slzhelp.org
SUMMARY:Food Pick Up - July 29th
DESCRIPTION:Appointments:\nYou must have an appointment to receive food. Please make your first appointment by calling: (341) 314-6770 during our open hours. \nOpen Hours:\n\nMondays\, Fridays\, and Saturdays – 10:30 AM to 3:30 PM\nWednesdays 10:30 AM to 1:00 PM\n\nFor what to expect visit our FAQ page . For questions and other information\, please contact us by emailing slzfoodbank@gmail.com. \nThe San Lorenzo Family Help Center is managed by our Executive Director Janelle Morimoto.
URL:https://www.slzhelp.org/event/food-pick-up-july-29th/
LOCATION:San Lorenzo Family Help Center\, 20960 Corsair Blvd\, Hayward \, CA\, United States
CATEGORIES:Food Pick Up
END:VEVENT
BEGIN:VEVENT
DTSTART;TZID=America/Los_Angeles:20240727T103000
DTEND;TZID=America/Los_Angeles:20240727T153000
DTSTAMP:20260419T224613
CREATED:20240616T075028Z
LAST-MODIFIED:20240718T094352Z
UID:1540-1722076200-1722094200@www.slzhelp.org
SUMMARY:July 27th - we are closed for pantry food pick ups
DESCRIPTION:We are out supporting our mobile pantry today.
URL:https://www.slzhelp.org/event/food-pick-up-july-27th/
LOCATION:San Lorenzo Family Help Center\, 20960 Corsair Blvd\, Hayward \, CA\, United States
CATEGORIES:Food Pick Up
END:VEVENT
BEGIN:VEVENT
DTSTART;TZID=America/Los_Angeles:20240726T103000
DTEND;TZID=America/Los_Angeles:20240726T153000
DTSTAMP:20260419T224613
CREATED:20240616T074915Z
LAST-MODIFIED:20240616T074918Z
UID:1538-1721989800-1722007800@www.slzhelp.org
SUMMARY:Food Pick Up - July 26th
DESCRIPTION:Appointments:\nYou must have an appointment to receive food. Please make your first appointment by calling: (341) 314-6770 during our open hours. \nOpen Hours:\n\nMondays\, Fridays\, and Saturdays – 10:30 AM to 3:30 PM\nWednesdays 10:30 AM to 1:00 PM\n\nFor what to expect visit our FAQ page . For questions and other information\, please contact us by emailing slzfoodbank@gmail.com. \nThe San Lorenzo Family Help Center is managed by our Executive Director Janelle Morimoto.
URL:https://www.slzhelp.org/event/food-pick-up-july-26th/
LOCATION:San Lorenzo Family Help Center\, 20960 Corsair Blvd\, Hayward \, CA\, United States
CATEGORIES:Food Pick Up
END:VEVENT
BEGIN:VEVENT
DTSTART;TZID=America/Los_Angeles:20240724T103000
DTEND;TZID=America/Los_Angeles:20240724T130000
DTSTAMP:20260419T224613
CREATED:20240616T074808Z
LAST-MODIFIED:20240616T074811Z
UID:1536-1721817000-1721826000@www.slzhelp.org
SUMMARY:Food Pick Up - July 24th
DESCRIPTION:Appointments:\nYou must have an appointment to receive food. Please make your first appointment by calling: (341) 314-6770 during our open hours. \nOpen Hours:\n\nMondays\, Fridays\, and Saturdays – 10:30 AM to 3:30 PM\nWednesdays 10:30 AM to 1:00 PM\n\nFor what to expect visit our FAQ page . For questions and other information\, please contact us by emailing slzfoodbank@gmail.com. \nThe San Lorenzo Family Help Center is managed by our Executive Director Janelle Morimoto.
URL:https://www.slzhelp.org/event/food-pick-up-july-24th/
LOCATION:San Lorenzo Family Help Center\, 20960 Corsair Blvd\, Hayward \, CA\, United States
CATEGORIES:Food Pick Up
END:VEVENT
BEGIN:VEVENT
DTSTART;TZID=America/Los_Angeles:20240722T103000
DTEND;TZID=America/Los_Angeles:20240722T153000
DTSTAMP:20260419T224613
CREATED:20240616T074700Z
LAST-MODIFIED:20240616T074703Z
UID:1534-1721644200-1721662200@www.slzhelp.org
SUMMARY:Food Pick Up - July 22nd
DESCRIPTION:Appointments:\nYou must have an appointment to receive food. Please make your first appointment by calling: (341) 314-6770 during our open hours. \nOpen Hours:\n\nMondays\, Fridays\, and Saturdays – 10:30 AM to 3:30 PM\nWednesdays 10:30 AM to 1:00 PM\n\nFor what to expect visit our FAQ page . For questions and other information\, please contact us by emailing slzfoodbank@gmail.com. \nThe San Lorenzo Family Help Center is managed by our Executive Director Janelle Morimoto.
URL:https://www.slzhelp.org/event/food-pick-up-july-22nd/
LOCATION:San Lorenzo Family Help Center\, 20960 Corsair Blvd\, Hayward \, CA\, United States
CATEGORIES:Food Pick Up
END:VEVENT
BEGIN:VEVENT
DTSTART;TZID=UTC:20240720T103000
DTEND;TZID=UTC:20240720T130000
DTSTAMP:20260419T224613
CREATED:20240616T074543Z
LAST-MODIFIED:20240618T102316Z
UID:1532-1721471400-1721480400@www.slzhelp.org
SUMMARY:Food Pick Up - July 20th
DESCRIPTION:Appointments:\nYou must have an appointment to receive food. Please make your first appointment by calling: (341) 314-6770 during our open hours. \nOpen Hours:\n\nMondays\, Fridays\, and Saturdays – 10:30 AM to 3:30 PM\nWednesdays 10:30 AM to 1:00 PM\n\nFor what to expect visit our FAQ page . For questions and other information\, please contact us by emailing slzfoodbank@gmail.com. \nThe San Lorenzo Family Help Center is managed by our Executive Director Janelle Morimoto.
URL:https://www.slzhelp.org/event/food-pick-up-july-20th/
LOCATION:San Lorenzo Family Help Center\, 20960 Corsair Blvd\, Hayward \, CA\, United States
CATEGORIES:Food Pick Up
END:VEVENT
BEGIN:VEVENT
DTSTART;TZID=America/Los_Angeles:20240719T103000
DTEND;TZID=America/Los_Angeles:20240719T153000
DTSTAMP:20260419T224613
CREATED:20240616T074430Z
LAST-MODIFIED:20240616T074433Z
UID:1530-1721385000-1721403000@www.slzhelp.org
SUMMARY:Food Pick Up - July 19th
DESCRIPTION:Appointments:\nYou must have an appointment to receive food. Please make your first appointment by calling: (341) 314-6770 during our open hours. \nOpen Hours:\n\nMondays\, Fridays\, and Saturdays – 10:30 AM to 3:30 PM\nWednesdays 10:30 AM to 1:00 PM\n\nFor what to expect visit our FAQ page . For questions and other information\, please contact us by emailing slzfoodbank@gmail.com. \nThe San Lorenzo Family Help Center is managed by our Executive Director Janelle Morimoto.
URL:https://www.slzhelp.org/event/food-pick-up-july-19th/
LOCATION:San Lorenzo Family Help Center\, 20960 Corsair Blvd\, Hayward \, CA\, United States
CATEGORIES:Food Pick Up
END:VEVENT
BEGIN:VEVENT
DTSTART;TZID=America/Los_Angeles:20240717T103000
DTEND;TZID=America/Los_Angeles:20240717T130000
DTSTAMP:20260419T224613
CREATED:20240616T074319Z
LAST-MODIFIED:20240616T074322Z
UID:1528-1721212200-1721221200@www.slzhelp.org
SUMMARY:Food Pick Up - July 17th
DESCRIPTION:Appointments:\nYou must have an appointment to receive food. Please make your first appointment by calling: (341) 314-6770 during our open hours. \nOpen Hours:\n\nMondays\, Fridays\, and Saturdays – 10:30 AM to 3:30 PM\nWednesdays 10:30 AM to 1:00 PM\n\nFor what to expect visit our FAQ page . For questions and other information\, please contact us by emailing slzfoodbank@gmail.com. \nThe San Lorenzo Family Help Center is managed by our Executive Director Janelle Morimoto.
URL:https://www.slzhelp.org/event/food-pick-up-july-17th/
LOCATION:San Lorenzo Family Help Center\, 20960 Corsair Blvd\, Hayward \, CA\, United States
CATEGORIES:Food Pick Up
END:VEVENT
BEGIN:VEVENT
DTSTART;TZID=UTC:20240715T103000
DTEND;TZID=UTC:20240715T153000
DTSTAMP:20260419T224613
CREATED:20240616T074211Z
LAST-MODIFIED:20240616T075512Z
UID:1526-1721039400-1721057400@www.slzhelp.org
SUMMARY:Food Pick Up - July 15th
DESCRIPTION:Appointments:\nYou must have an appointment to receive food. Please make your first appointment by calling: (341) 314-6770 during our open hours. \nOpen Hours:\n\nMondays\, Fridays\, and Saturdays – 10:30 AM to 3:30 PM\nWednesdays 10:30 AM to 1:00 PM\n\nFor what to expect visit our FAQ page . For questions and other information\, please contact us by emailing slzfoodbank@gmail.com. \nThe San Lorenzo Family Help Center is managed by our Executive Director Janelle Morimoto.
URL:https://www.slzhelp.org/event/food-pick-up-july-15th/
LOCATION:San Lorenzo Family Help Center\, 20960 Corsair Blvd\, Hayward \, CA\, United States
CATEGORIES:Food Pick Up
END:VEVENT
BEGIN:VEVENT
DTSTART;TZID=America/Los_Angeles:20240713T103000
DTEND;TZID=America/Los_Angeles:20240713T153000
DTSTAMP:20260419T224613
CREATED:20240616T073858Z
LAST-MODIFIED:20240616T073905Z
UID:1523-1720866600-1720884600@www.slzhelp.org
SUMMARY:Food Pick Up - July 13th
DESCRIPTION:Appointments:\nYou must have an appointment to receive food. Please make your first appointment by calling: (341) 314-6770 during our open hours. \nOpen Hours:\n\nMondays\, Fridays\, and Saturdays – 10:30 AM to 3:30 PM\nWednesdays 10:30 AM to 1:00 PM\n\nFor what to expect visit our FAQ page . For questions and other information\, please contact us by emailing slzfoodbank@gmail.com. \nThe San Lorenzo Family Help Center is managed by our Executive Director Janelle Morimoto.
URL:https://www.slzhelp.org/event/food-pick-up-july-13th/
LOCATION:San Lorenzo Family Help Center\, 20960 Corsair Blvd\, Hayward \, CA\, United States
CATEGORIES:Food Pick Up
END:VEVENT
BEGIN:VEVENT
DTSTART;TZID=America/Los_Angeles:20240712T103000
DTEND;TZID=America/Los_Angeles:20240712T153000
DTSTAMP:20260419T224613
CREATED:20240616T073742Z
LAST-MODIFIED:20240616T073745Z
UID:1521-1720780200-1720798200@www.slzhelp.org
SUMMARY:Food Pick Up - July 12th
DESCRIPTION:Appointments:\nYou must have an appointment to receive food. Please make your first appointment by calling: (341) 314-6770 during our open hours. \nOpen Hours:\n\nMondays\, Fridays\, and Saturdays – 10:30 AM to 3:30 PM\nWednesdays 10:30 AM to 1:00 PM\n\nFor what to expect visit our FAQ page . For questions and other information\, please contact us by emailing slzfoodbank@gmail.com. \nThe San Lorenzo Family Help Center is managed by our Executive Director Janelle Morimoto.
URL:https://www.slzhelp.org/event/food-pick-up-july-12th/
LOCATION:San Lorenzo Family Help Center\, 20960 Corsair Blvd\, Hayward \, CA\, United States
CATEGORIES:Food Pick Up
END:VEVENT
BEGIN:VEVENT
DTSTART;TZID=UTC:20240710T103000
DTEND;TZID=UTC:20240710T130000
DTSTAMP:20260419T224613
CREATED:20240616T074001Z
LAST-MODIFIED:20240616T074001Z
UID:1519-1720607400-1720616400@www.slzhelp.org
SUMMARY:Food Pick Up - July 10th
DESCRIPTION:Making an Appointment:\nYou must have an appointment\, in advance\, to receive food.  \nPlease make your first appointment by calling: (341) 314-6770 during our open hours. \nOpen Hours:  \n\nMondays\, Fridays\, and Saturdays – 10:30 AM to 3:30 PM\nWednesdays 10:30 AM to 1:00 PM\n\nFor what to expect visit our FAQ page . For questions and other information\, please contact us by emailing slzfoodbank@gmail.com. \nThe San Lorenzo Family Help Center is managed by our Executive Director Janelle Morimoto.
URL:https://www.slzhelp.org/event/food-pick-up-july-10th/
LOCATION:San Lorenzo Family Help Center\, 20960 Corsair Blvd\, Hayward \, CA\, United States
CATEGORIES:Food Pick Up
END:VEVENT
BEGIN:VEVENT
DTSTART;TZID=America/Los_Angeles:20240708T103000
DTEND;TZID=America/Los_Angeles:20240708T153000
DTSTAMP:20260419T224613
CREATED:20240616T072710Z
LAST-MODIFIED:20240616T072713Z
UID:1517-1720434600-1720452600@www.slzhelp.org
SUMMARY:Food Pick Up - July 8th
DESCRIPTION:Making an Appointment:\nYou must have an appointment\, in advance\, to receive food.  \nPlease make your first appointment by calling: (341) 314-6770 during our open hours. \nOpen Hours: Fridays\, Saturdays\, Mondays – 10:30 AM to 3:30 PM\nAppointments:\n\nFirst appointment is 10:30 AM\nLast appointment is 3:00 PM\n\nFor what to expect visit our FAQ page . For questions and other information\, please contact us by emailing slzfoodbank@gmail.com. \nThe San Lorenzo Family Help Center is managed by our Executive Director Janelle Morimoto.
URL:https://www.slzhelp.org/event/food-pick-up-july-8th/
LOCATION:San Lorenzo Family Help Center\, 20960 Corsair Blvd\, Hayward \, CA\, United States
CATEGORIES:Food Pick Up
END:VEVENT
BEGIN:VEVENT
DTSTART;TZID=America/Los_Angeles:20240706T103000
DTEND;TZID=America/Los_Angeles:20240706T153000
DTSTAMP:20260419T224613
CREATED:20240616T072413Z
LAST-MODIFIED:20240616T072416Z
UID:1513-1720261800-1720279800@www.slzhelp.org
SUMMARY:Food Pick Up - July 6th
DESCRIPTION:Making an Appointment:\nYou must have an appointment\, in advance\, to receive food.  \nPlease make your first appointment by calling: (341) 314-6770 during our open hours. \nOpen Hours: Fridays\, Saturdays\, Mondays – 10:30 AM to 3:30 PM\nAppointments:\n\nFirst appointment is 10:30 AM\nLast appointment is 3:00 PM\n\nFor what to expect visit our FAQ page . For questions and other information\, please contact us by emailing slzfoodbank@gmail.com. \nThe San Lorenzo Family Help Center is managed by our Executive Director Janelle Morimoto.
URL:https://www.slzhelp.org/event/food-pick-up-july-6th/
LOCATION:San Lorenzo Family Help Center\, 20960 Corsair Blvd\, Hayward \, CA\, United States
CATEGORIES:Food Pick Up
END:VEVENT
BEGIN:VEVENT
DTSTART;TZID=America/Los_Angeles:20240705T103000
DTEND;TZID=America/Los_Angeles:20240705T153000
DTSTAMP:20260419T224613
CREATED:20240616T072226Z
LAST-MODIFIED:20240617T050153Z
UID:1510-1720175400-1720193400@www.slzhelp.org
SUMMARY:Food Pick Up - July 5th
DESCRIPTION:Making an Appointment:\nYou must have an appointment\, in advance\, to receive food.  \nPlease make your first appointment by calling: (341) 314-6770 during our open hours. \nOpen Hours: Fridays\, Saturdays\, Mondays – 10:30 AM to 3:30 PM\nAppointments:\n\nFirst appointment is 10:30 AM\nLast appointment is 3:00 PM\n\nFor what to expect visit our FAQ page . For questions and other information\, please contact us by emailing slzfoodbank@gmail.com. \nThe San Lorenzo Family Help Center is managed by our Executive Director Janelle Morimoto.
URL:https://www.slzhelp.org/event/food-pick-up-july-5th/
LOCATION:San Lorenzo Family Help Center\, 20960 Corsair Blvd\, Hayward \, CA\, United States
CATEGORIES:Food Pick Up
END:VEVENT
BEGIN:VEVENT
DTSTART;TZID=UTC:20240701T103000
DTEND;TZID=UTC:20240701T153000
DTSTAMP:20260419T224613
CREATED:20240524T060700Z
LAST-MODIFIED:20240616T071850Z
UID:1484-1719829800-1719847800@www.slzhelp.org
SUMMARY:Food Pick Up - July 1st
DESCRIPTION:Making an Appointment:\nYou must have an appointment\, in advance\, to receive food.  \nPlease make your first appointment by calling: (341) 314-6770 during our open hours. Your call will not be answered at any other day or time. \nOpen Hours:\nFridays\, Saturdays\, Mondays – 10:30 AM to 3:30 PM \nAppointments:\n\nFirst appointment is 10:30 AM\nLast appointment is 3:00 PM\n\nFor what to expect visit our FAQ page . For questions and other information\, please contact us by emailing slzfoodbank@gmail.com. \nThe San Lorenzo Family Help Center is managed by our Executive Director Janelle Morimoto.
URL:https://www.slzhelp.org/event/food-pick-up-july-1st/
LOCATION:San Lorenzo Family Help Center\, 20960 Corsair Blvd\, Hayward \, CA\, United States
CATEGORIES:Food Pick Up
END:VEVENT
END:VCALENDAR