BEGIN:VCALENDAR
VERSION:2.0
PRODID:-//San Lorenzo Family Help Center - ECPv6.15.17.1//NONSGML v1.0//EN
CALSCALE:GREGORIAN
METHOD:PUBLISH
X-ORIGINAL-URL:https://www.slzhelp.org
X-WR-CALDESC:Events for San Lorenzo Family Help Center
REFRESH-INTERVAL;VALUE=DURATION:PT1H
X-Robots-Tag:noindex
X-PUBLISHED-TTL:PT1H
BEGIN:VTIMEZONE
TZID:America/Los_Angeles
BEGIN:DAYLIGHT
TZOFFSETFROM:-0800
TZOFFSETTO:-0700
TZNAME:PDT
DTSTART:20230312T100000
END:DAYLIGHT
BEGIN:STANDARD
TZOFFSETFROM:-0700
TZOFFSETTO:-0800
TZNAME:PST
DTSTART:20231105T090000
END:STANDARD
BEGIN:DAYLIGHT
TZOFFSETFROM:-0800
TZOFFSETTO:-0700
TZNAME:PDT
DTSTART:20240310T100000
END:DAYLIGHT
BEGIN:STANDARD
TZOFFSETFROM:-0700
TZOFFSETTO:-0800
TZNAME:PST
DTSTART:20241103T090000
END:STANDARD
BEGIN:DAYLIGHT
TZOFFSETFROM:-0800
TZOFFSETTO:-0700
TZNAME:PDT
DTSTART:20250309T100000
END:DAYLIGHT
BEGIN:STANDARD
TZOFFSETFROM:-0700
TZOFFSETTO:-0800
TZNAME:PST
DTSTART:20251102T090000
END:STANDARD
BEGIN:DAYLIGHT
TZOFFSETFROM:-0800
TZOFFSETTO:-0700
TZNAME:PDT
DTSTART:20260308T100000
END:DAYLIGHT
BEGIN:STANDARD
TZOFFSETFROM:-0700
TZOFFSETTO:-0800
TZNAME:PST
DTSTART:20261101T090000
END:STANDARD
END:VTIMEZONE
BEGIN:VEVENT
DTSTART;TZID=America/Los_Angeles:20250207T103000
DTEND;TZID=America/Los_Angeles:20250207T150000
DTSTAMP:20260419T191640
CREATED:20250201T105921Z
LAST-MODIFIED:20250201T105923Z
UID:2238-1738924200-1738940400@www.slzhelp.org
SUMMARY:Food Pick Up @SLFHC - Feb 7\, 2025
DESCRIPTION:Appointments:\nYou must have an appointment to receive food. Please make your first appointment by calling: (341) 314-6770 during our open hours. \nOpen Hours:\n\nMondays\, Fridays\, and Saturdays – 10:30 AM to 3:00 PM\nWednesdays 10:30 AM to 1:00 PM\n\nFor what to expect visit our FAQ page . For questions and other information\, please contact us by emailing slzfoodbank@gmail.com. \nThe San Lorenzo Family Help Center is managed by our Executive Director Janelle Morimoto.
URL:https://www.slzhelp.org/event/food-pick-up-slfhc-feb-7-2025/
LOCATION:San Lorenzo Family Help Center\, 20960 Corsair Blvd\, Hayward \, CA\, United States
CATEGORIES:Food Pick Up
END:VEVENT
BEGIN:VEVENT
DTSTART;TZID=America/Los_Angeles:20250205T103000
DTEND;TZID=America/Los_Angeles:20250205T130000
DTSTAMP:20260419T191640
CREATED:20250201T105749Z
LAST-MODIFIED:20250201T105752Z
UID:2236-1738751400-1738760400@www.slzhelp.org
SUMMARY:Food Pick UP @SLFHC - Feb 5\, 2025
DESCRIPTION:Appointments:\nYou must have an appointment to receive food. Please make your first appointment by calling: (341) 314-6770 during our open hours. \nOpen Hours:\n\nMondays\, Fridays\, and Saturdays – 10:30 AM to 3:00 PM\nWednesdays 10:30 AM to 1:00 PM\n\nFor what to expect visit our FAQ page . For questions and other information\, please contact us by emailing slzfoodbank@gmail.com. \nThe San Lorenzo Family Help Center is managed by our Executive Director Janelle Morimoto.
URL:https://www.slzhelp.org/event/food-pick-up-slfhc-feb-5-2025/
LOCATION:San Lorenzo Family Help Center\, 20960 Corsair Blvd\, Hayward \, CA\, United States
CATEGORIES:Food Pick Up
END:VEVENT
BEGIN:VEVENT
DTSTART;TZID=America/Los_Angeles:20250203T103000
DTEND;TZID=America/Los_Angeles:20250203T150000
DTSTAMP:20260419T191640
CREATED:20250201T105636Z
LAST-MODIFIED:20250201T105639Z
UID:2234-1738578600-1738594800@www.slzhelp.org
SUMMARY:Food Pick Up @SLFHC - Feb 3\, 2025
DESCRIPTION:Appointments:\nYou must have an appointment to receive food. Please make your first appointment by calling: (341) 314-6770 during our open hours. \nOpen Hours:\n\nMondays\, Fridays\, and Saturdays – 10:30 AM to 3:00 PM\nWednesdays 10:30 AM to 1:00 PM\n\nFor what to expect visit our FAQ page . For questions and other information\, please contact us by emailing slzfoodbank@gmail.com. \nThe San Lorenzo Family Help Center is managed by our Executive Director Janelle Morimoto.
URL:https://www.slzhelp.org/event/food-pick-up-slfhc-feb-3-2025/
LOCATION:San Lorenzo Family Help Center\, 20960 Corsair Blvd\, Hayward \, CA\, United States
CATEGORIES:Food Pick Up
END:VEVENT
BEGIN:VEVENT
DTSTART;TZID=America/Los_Angeles:20250131T103000
DTEND;TZID=America/Los_Angeles:20250131T150000
DTSTAMP:20260419T191640
CREATED:20241230T032513Z
LAST-MODIFIED:20241230T032516Z
UID:2145-1738319400-1738335600@www.slzhelp.org
SUMMARY:Food Pick Up @SLFHC - Jan 31\, 2025
DESCRIPTION:Appointments:\nYou must have an appointment to receive food. Please make your first appointment by calling: (341) 314-6770 during our open hours. \nOpen Hours:\n\nMondays\, Fridays\, and Saturdays – 10:30 AM to 3:00 PM\nWednesdays 10:30 AM to 1:00 PM\n\nFor what to expect visit our FAQ page . For questions and other information\, please contact us by emailing slzfoodbank@gmail.com. \nThe San Lorenzo Family Help Center is managed by our Executive Director Janelle Morimoto.
URL:https://www.slzhelp.org/event/food-pick-up-slfhc-jan-31-2025/
LOCATION:San Lorenzo Family Help Center\, 20960 Corsair Blvd\, Hayward \, CA\, United States
CATEGORIES:Food Pick Up
END:VEVENT
BEGIN:VEVENT
DTSTART;TZID=America/Los_Angeles:20250129T103000
DTEND;TZID=America/Los_Angeles:20250129T130000
DTSTAMP:20260419T191640
CREATED:20241230T032408Z
LAST-MODIFIED:20241230T032411Z
UID:2143-1738146600-1738155600@www.slzhelp.org
SUMMARY:Food Pick Up @SLFHC - Jan 29\, 2025
DESCRIPTION:Appointments:\nYou must have an appointment to receive food. Please make your first appointment by calling: (341) 314-6770 during our open hours. \nOpen Hours:\n\nMondays\, Fridays\, and Saturdays – 10:30 AM to 3:00 PM\nWednesdays 10:30 AM to 1:00 PM\n\nFor what to expect visit our FAQ page . For questions and other information\, please contact us by emailing slzfoodbank@gmail.com. \nThe San Lorenzo Family Help Center is managed by our Executive Director Janelle Morimoto.
URL:https://www.slzhelp.org/event/food-pick-up-slfhc-jan-29-2025/
LOCATION:San Lorenzo Family Help Center\, 20960 Corsair Blvd\, Hayward \, CA\, United States
CATEGORIES:Food Pick Up
END:VEVENT
BEGIN:VEVENT
DTSTART;TZID=America/Los_Angeles:20250127T103000
DTEND;TZID=America/Los_Angeles:20250127T150000
DTSTAMP:20260419T191640
CREATED:20241230T032258Z
LAST-MODIFIED:20241230T032301Z
UID:2141-1737973800-1737990000@www.slzhelp.org
SUMMARY:Food Pick Up @SLFHC - Jan 27\, 2025
DESCRIPTION:Appointments:\nYou must have an appointment to receive food. Please make your first appointment by calling: (341) 314-6770 during our open hours. \nOpen Hours:\n\nMondays\, Fridays\, and Saturdays – 10:30 AM to 3:00 PM\nWednesdays 10:30 AM to 1:00 PM\n\nFor what to expect visit our FAQ page . For questions and other information\, please contact us by emailing slzfoodbank@gmail.com. \nThe San Lorenzo Family Help Center is managed by our Executive Director Janelle Morimoto.
URL:https://www.slzhelp.org/event/food-pick-up-slfhc-jan-27-2025/
LOCATION:San Lorenzo Family Help Center\, 20960 Corsair Blvd\, Hayward \, CA\, United States
CATEGORIES:Food Pick Up
END:VEVENT
BEGIN:VEVENT
DTSTART;TZID=America/Los_Angeles:20250125T103000
DTEND;TZID=America/Los_Angeles:20250125T150000
DTSTAMP:20260419T191640
CREATED:20241230T032149Z
LAST-MODIFIED:20241230T032152Z
UID:2139-1737801000-1737817200@www.slzhelp.org
SUMMARY:Food Pick Up @SLFHC - Jan 25\, 2025
DESCRIPTION:Appointments:\nYou must have an appointment to receive food. Please make your first appointment by calling: (341) 314-6770 during our open hours. \nOpen Hours:\n\nMondays\, Fridays\, and Saturdays – 10:30 AM to 3:00 PM\nWednesdays 10:30 AM to 1:00 PM\n\nFor what to expect visit our FAQ page . For questions and other information\, please contact us by emailing slzfoodbank@gmail.com. \nThe San Lorenzo Family Help Center is managed by our Executive Director Janelle Morimoto.
URL:https://www.slzhelp.org/event/food-pick-up-slfhc-jan-25-2025/
LOCATION:San Lorenzo Family Help Center\, 20960 Corsair Blvd\, Hayward \, CA\, United States
CATEGORIES:Food Pick Up
END:VEVENT
BEGIN:VEVENT
DTSTART;TZID=America/Los_Angeles:20250124T103000
DTEND;TZID=America/Los_Angeles:20250124T150000
DTSTAMP:20260419T191640
CREATED:20241230T032023Z
LAST-MODIFIED:20241230T032026Z
UID:2137-1737714600-1737730800@www.slzhelp.org
SUMMARY:Food Pick Up @SLFHC - Jan 24\, 2025
DESCRIPTION:Appointments:\nYou must have an appointment to receive food. Please make your first appointment by calling: (341) 314-6770 during our open hours. \nOpen Hours:\n\nMondays\, Fridays\, and Saturdays – 10:30 AM to 3:00 PM\nWednesdays 10:30 AM to 1:00 PM\n\nFor what to expect visit our FAQ page . For questions and other information\, please contact us by emailing slzfoodbank@gmail.com. \nThe San Lorenzo Family Help Center is managed by our Executive Director Janelle Morimoto.
URL:https://www.slzhelp.org/event/food-pick-up-slfhc-jan-24-2025/
LOCATION:San Lorenzo Family Help Center\, 20960 Corsair Blvd\, Hayward \, CA\, United States
CATEGORIES:Food Pick Up
END:VEVENT
BEGIN:VEVENT
DTSTART;TZID=America/Los_Angeles:20250122T103000
DTEND;TZID=America/Los_Angeles:20250122T130000
DTSTAMP:20260419T191640
CREATED:20241230T031915Z
LAST-MODIFIED:20241230T031918Z
UID:2135-1737541800-1737550800@www.slzhelp.org
SUMMARY:Food Pick Up @SLFHC - Jan 22\, 2025
DESCRIPTION:Appointments:\nYou must have an appointment to receive food. Please make your first appointment by calling: (341) 314-6770 during our open hours. \nOpen Hours:\n\nMondays\, Fridays\, and Saturdays – 10:30 AM to 3:00 PM\nWednesdays 10:30 AM to 1:00 PM\n\nFor what to expect visit our FAQ page . For questions and other information\, please contact us by emailing slzfoodbank@gmail.com. \nThe San Lorenzo Family Help Center is managed by our Executive Director Janelle Morimoto.
URL:https://www.slzhelp.org/event/food-pick-up-slfhc-jan-22-2025/
LOCATION:San Lorenzo Family Help Center\, 20960 Corsair Blvd\, Hayward \, CA\, United States
CATEGORIES:Food Pick Up
END:VEVENT
BEGIN:VEVENT
DTSTART;TZID=America/Los_Angeles:20250120T103000
DTEND;TZID=America/Los_Angeles:20250120T150000
DTSTAMP:20260419T191640
CREATED:20241230T031814Z
LAST-MODIFIED:20241230T031817Z
UID:2133-1737369000-1737385200@www.slzhelp.org
SUMMARY:Food Pick Up @SLFHC - Jan 20\, 2025
DESCRIPTION:Appointments:\nYou must have an appointment to receive food. Please make your first appointment by calling: (341) 314-6770 during our open hours. \nOpen Hours:\n\nMondays\, Fridays\, and Saturdays – 10:30 AM to 3:00 PM\nWednesdays 10:30 AM to 1:00 PM\n\nFor what to expect visit our FAQ page . For questions and other information\, please contact us by emailing slzfoodbank@gmail.com. \nThe San Lorenzo Family Help Center is managed by our Executive Director Janelle Morimoto.
URL:https://www.slzhelp.org/event/food-pick-up-slfhc-jan-20-2025/
LOCATION:San Lorenzo Family Help Center\, 20960 Corsair Blvd\, Hayward \, CA\, United States
CATEGORIES:Food Pick Up
END:VEVENT
BEGIN:VEVENT
DTSTART;TZID=America/Los_Angeles:20250118T103000
DTEND;TZID=America/Los_Angeles:20250118T150000
DTSTAMP:20260419T191640
CREATED:20241230T031536Z
LAST-MODIFIED:20241230T031703Z
UID:2131-1737196200-1737212400@www.slzhelp.org
SUMMARY:Food Pick Up @SLFHC - Jan 18\, 2025
DESCRIPTION:Appointments:\nYou must have an appointment to receive food. Please make your first appointment by calling: (341) 314-6770 during our open hours. \nOpen Hours:\n\nMondays\, Fridays\, and Saturdays – 10:30 AM to 3:00 PM\nWednesdays 10:30 AM to 1:00 PM\n\nFor what to expect visit our FAQ page . For questions and other information\, please contact us by emailing slzfoodbank@gmail.com. \nThe San Lorenzo Family Help Center is managed by our Executive Director Janelle Morimoto.
URL:https://www.slzhelp.org/event/food-pick-up-slfhc-jan-18-2025/
LOCATION:San Lorenzo Family Help Center\, 20960 Corsair Blvd\, Hayward \, CA\, United States
CATEGORIES:Food Pick Up
END:VEVENT
BEGIN:VEVENT
DTSTART;TZID=America/Los_Angeles:20250117T103000
DTEND;TZID=America/Los_Angeles:20250117T153000
DTSTAMP:20260419T191640
CREATED:20241230T031428Z
LAST-MODIFIED:20241230T031430Z
UID:2129-1737109800-1737127800@www.slzhelp.org
SUMMARY:Food Pick Up @SLFHC - Jan 17\, 2025
DESCRIPTION:Appointments:\nYou must have an appointment to receive food. Please make your first appointment by calling: (341) 314-6770 during our open hours. \nOpen Hours:\n\nMondays\, Fridays\, and Saturdays – 10:30 AM to 3:00 PM\nWednesdays 10:30 AM to 1:00 PM\n\nFor what to expect visit our FAQ page . For questions and other information\, please contact us by emailing slzfoodbank@gmail.com. \nThe San Lorenzo Family Help Center is managed by our Executive Director Janelle Morimoto.
URL:https://www.slzhelp.org/event/food-pick-up-slfhc-jan-17-2025/
LOCATION:San Lorenzo Family Help Center\, 20960 Corsair Blvd\, Hayward \, CA\, United States
CATEGORIES:Food Pick Up
END:VEVENT
BEGIN:VEVENT
DTSTART;TZID=America/Los_Angeles:20250115T103000
DTEND;TZID=America/Los_Angeles:20250115T130000
DTSTAMP:20260419T191640
CREATED:20241230T031258Z
LAST-MODIFIED:20241230T031316Z
UID:2127-1736937000-1736946000@www.slzhelp.org
SUMMARY:Food Pick Up @SLFHC - Jan 15\, 2025
DESCRIPTION:Appointments:\nYou must have an appointment to receive food. Please make your first appointment by calling: (341) 314-6770 during our open hours. \nOpen Hours:\n\nMondays\, Fridays\, and Saturdays – 10:30 AM to 3:00 PM\nWednesdays 10:30 AM to 1:00 PM\n\nFor what to expect visit our FAQ page . For questions and other information\, please contact us by emailing slzfoodbank@gmail.com. \nThe San Lorenzo Family Help Center is managed by our Executive Director Janelle Morimoto.
URL:https://www.slzhelp.org/event/food-pick-up-slfhc-jan-15-2025/
LOCATION:San Lorenzo Family Help Center\, 20960 Corsair Blvd\, Hayward \, CA\, United States
CATEGORIES:Food Pick Up
END:VEVENT
BEGIN:VEVENT
DTSTART;TZID=America/Los_Angeles:20250113T103000
DTEND;TZID=America/Los_Angeles:20250113T150000
DTSTAMP:20260419T191640
CREATED:20241230T031153Z
LAST-MODIFIED:20241230T031155Z
UID:2125-1736764200-1736780400@www.slzhelp.org
SUMMARY:Food Pick Up @SLFHC - Jan 13\, 2025
DESCRIPTION:Appointments:\nYou must have an appointment to receive food. Please make your first appointment by calling: (341) 314-6770 during our open hours. \nOpen Hours:\n\nMondays\, Fridays\, and Saturdays – 10:30 AM to 3:00 PM\nWednesdays 10:30 AM to 1:00 PM\n\nFor what to expect visit our FAQ page . For questions and other information\, please contact us by emailing slzfoodbank@gmail.com. \nThe San Lorenzo Family Help Center is managed by our Executive Director Janelle Morimoto.
URL:https://www.slzhelp.org/event/food-pick-up-slfhc-jan-13-2025/
LOCATION:San Lorenzo Family Help Center\, 20960 Corsair Blvd\, Hayward \, CA\, United States
CATEGORIES:Food Pick Up
END:VEVENT
BEGIN:VEVENT
DTSTART;VALUE=DATE:20250111
DTEND;VALUE=DATE:20250112
DTSTAMP:20260419T191640
CREATED:20241230T031040Z
LAST-MODIFIED:20241230T031040Z
UID:2123-1736553600-1736639999@www.slzhelp.org
SUMMARY:SLFHC is Closed - Jan 11\, 2025
DESCRIPTION:We are closed today. \n  \nAppointments:\nYou must have an appointment to receive food. Please make your first appointment by calling: (341) 314-6770 during our open hours. \nOpen Hours:\n\nMondays\, Fridays\, and Saturdays – 10:30 AM to 3:00 PM\nWednesdays 10:30 AM to 1:00 PM\n\nFor what to expect visit our FAQ page . For questions and other information\, please contact us by emailing slzfoodbank@gmail.com. \nThe San Lorenzo Family Help Center is managed by our Executive Director Janelle Morimoto.
URL:https://www.slzhelp.org/event/slfhc-is-closed-jan-11-2025/
LOCATION:CA
CATEGORIES:Food Pick Up
END:VEVENT
BEGIN:VEVENT
DTSTART;TZID=America/Los_Angeles:20250110T103000
DTEND;TZID=America/Los_Angeles:20250110T150000
DTSTAMP:20260419T191640
CREATED:20241230T030745Z
LAST-MODIFIED:20241230T030747Z
UID:2121-1736505000-1736521200@www.slzhelp.org
SUMMARY:Food Pick Up @SLFHC - Jan 10\, 2025
DESCRIPTION:Appointments:\nYou must have an appointment to receive food. Please make your first appointment by calling: (341) 314-6770 during our open hours. \nOpen Hours:\n\nMondays\, Fridays\, and Saturdays – 10:30 AM to 3:00 PM\nWednesdays 10:30 AM to 1:00 PM\n\nFor what to expect visit our FAQ page . For questions and other information\, please contact us by emailing slzfoodbank@gmail.com. \nThe San Lorenzo Family Help Center is managed by our Executive Director Janelle Morimoto.
URL:https://www.slzhelp.org/event/food-pick-up-slfhc-jan-10-2025/
LOCATION:San Lorenzo Family Help Center\, 20960 Corsair Blvd\, Hayward \, CA\, United States
CATEGORIES:Food Pick Up
END:VEVENT
BEGIN:VEVENT
DTSTART;TZID=America/Los_Angeles:20250108T080000
DTEND;TZID=America/Los_Angeles:20250108T130000
DTSTAMP:20260419T191640
CREATED:20241230T030436Z
LAST-MODIFIED:20241230T030439Z
UID:2119-1736323200-1736341200@www.slzhelp.org
SUMMARY:Food Pick Up @SLFHC - Jan 8\, 2025
DESCRIPTION:Appointments:\nYou must have an appointment to receive food. Please make your first appointment by calling: (341) 314-6770 during our open hours. \nOpen Hours:\n\nMondays\, Fridays\, and Saturdays – 10:30 AM to 3:00 PM\nWednesdays 10:30 AM to 1:00 PM\n\nFor what to expect visit our FAQ page . For questions and other information\, please contact us by emailing slzfoodbank@gmail.com. \nThe San Lorenzo Family Help Center is managed by our Executive Director Janelle Morimoto.
URL:https://www.slzhelp.org/event/food-pick-up-slfhc-jan-8-2025/
LOCATION:San Lorenzo Family Help Center\, 20960 Corsair Blvd\, Hayward \, CA\, United States
CATEGORIES:Food Pick Up
END:VEVENT
BEGIN:VEVENT
DTSTART;TZID=America/Los_Angeles:20250106T103000
DTEND;TZID=America/Los_Angeles:20250106T150000
DTSTAMP:20260419T191640
CREATED:20241230T030300Z
LAST-MODIFIED:20241230T030303Z
UID:2117-1736159400-1736175600@www.slzhelp.org
SUMMARY:Food Pick Up @SLFHC - Jan 6\, 2025
DESCRIPTION:Appointments:\nYou must have an appointment to receive food. Please make your first appointment by calling: (341) 314-6770 during our open hours. \nOpen Hours:\n\nMondays\, Fridays\, and Saturdays – 10:30 AM to 3:00 PM\nWednesdays 10:30 AM to 1:00 PM\n\nFor what to expect visit our FAQ page . For questions and other information\, please contact us by emailing slzfoodbank@gmail.com. \nThe San Lorenzo Family Help Center is managed by our Executive Director Janelle Morimoto.
URL:https://www.slzhelp.org/event/food-pick-up-slfhc-jan-6-2025/
LOCATION:San Lorenzo Family Help Center\, 20960 Corsair Blvd\, Hayward \, CA\, United States
CATEGORIES:Food Pick Up
END:VEVENT
BEGIN:VEVENT
DTSTART;TZID=America/Los_Angeles:20250104T103000
DTEND;TZID=America/Los_Angeles:20250104T150000
DTSTAMP:20260419T191640
CREATED:20241124T131624Z
LAST-MODIFIED:20241124T131627Z
UID:2055-1735986600-1736002800@www.slzhelp.org
SUMMARY:Food Pick Up @SLFHC - Jan 4\, 2025
DESCRIPTION:Appointments:\nYou must have an appointment to receive food. Please make your first appointment by calling: (341) 314-6770 during our open hours. \nOpen Hours:\n\nMondays\, Fridays\, and Saturdays – 10:30 AM to 3:00 PM\nWednesdays 10:30 AM to 1:00 PM\n\nFor what to expect visit our FAQ page . For questions and other information\, please contact us by emailing slzfoodbank@gmail.com. \nThe San Lorenzo Family Help Center is managed by our Executive Director Janelle Morimoto.
URL:https://www.slzhelp.org/event/food-pick-up-slfhc-jan-4-2025/
LOCATION:San Lorenzo Family Help Center\, 20960 Corsair Blvd\, Hayward \, CA\, United States
CATEGORIES:Food Pick Up
END:VEVENT
BEGIN:VEVENT
DTSTART;TZID=America/Los_Angeles:20250103T103000
DTEND;TZID=America/Los_Angeles:20250103T150000
DTSTAMP:20260419T191640
CREATED:20241124T131513Z
LAST-MODIFIED:20241124T131516Z
UID:2053-1735900200-1735916400@www.slzhelp.org
SUMMARY:Food Pick Up @SLFHC - Jan 3\, 2025
DESCRIPTION:Appointments:\nYou must have an appointment to receive food. Please make your first appointment by calling: (341) 314-6770 during our open hours. \nOpen Hours:\n\nMondays\, Fridays\, and Saturdays – 10:30 AM to 3:00 PM\nWednesdays 10:30 AM to 1:00 PM\n\nFor what to expect visit our FAQ page . For questions and other information\, please contact us by emailing slzfoodbank@gmail.com. \nThe San Lorenzo Family Help Center is managed by our Executive Director Janelle Morimoto.
URL:https://www.slzhelp.org/event/food-pick-up-slfhc-jan-3-2025/
LOCATION:San Lorenzo Family Help Center\, 20960 Corsair Blvd\, Hayward \, CA\, United States
CATEGORIES:Food Pick Up
END:VEVENT
BEGIN:VEVENT
DTSTART;VALUE=DATE:20241225
DTEND;VALUE=DATE:20250102
DTSTAMP:20260419T191640
CREATED:20241124T130014Z
LAST-MODIFIED:20241124T130017Z
UID:2045-1735084800-1735775999@www.slzhelp.org
SUMMARY:Food Pick Up @SLFHC - Closed - Dec 25\, 2024 through Jan 1\, 2025
DESCRIPTION:We will be closed during this holiday season. \nSee you back in 2025!!
URL:https://www.slzhelp.org/event/food-pick-up-slfhc-closed-dec-25-2024-through-jan-1-2025/
LOCATION:San Lorenzo Family Help Center\, 20960 Corsair Blvd\, Hayward \, CA\, United States
CATEGORIES:Food Pick Up
END:VEVENT
BEGIN:VEVENT
DTSTART;TZID=America/Los_Angeles:20241223T103000
DTEND;TZID=America/Los_Angeles:20241223T150000
DTSTAMP:20260419T191640
CREATED:20241125T065346Z
LAST-MODIFIED:20241125T065349Z
UID:2057-1734949800-1734966000@www.slzhelp.org
SUMMARY:Food Pick Up @SLFHC - Dec 23\, 2024
DESCRIPTION:Appointments:\nYou must have an appointment to receive food. Please make your first appointment by calling: (341) 314-6770 during our open hours. \nOpen Hours:\n\nMondays\, Fridays\, and Saturdays – 10:30 AM to 3:00 PM\nWednesdays 10:30 AM to 1:00 PM\n\nFor what to expect visit our FAQ page . For questions and other information\, please contact us by emailing slzfoodbank@gmail.com. \nThe San Lorenzo Family Help Center is managed by our Executive Director Janelle Morimoto.
URL:https://www.slzhelp.org/event/food-pick-up-slfhc-dec-23-2024/
LOCATION:San Lorenzo Family Help Center\, 20960 Corsair Blvd\, Hayward \, CA\, United States
CATEGORIES:Food Pick Up
END:VEVENT
BEGIN:VEVENT
DTSTART;TZID=America/Los_Angeles:20241221T103000
DTEND;TZID=America/Los_Angeles:20241221T150000
DTSTAMP:20260419T191640
CREATED:20241124T125805Z
LAST-MODIFIED:20241124T125809Z
UID:2043-1734777000-1734793200@www.slzhelp.org
SUMMARY:Food Pick Up @SLFHC - Dec 21\, 2024
DESCRIPTION:Appointments:\nYou must have an appointment to receive food. Please make your first appointment by calling: (341) 314-6770 during our open hours. \nOpen Hours:\n\nMondays\, Fridays\, and Saturdays – 10:30 AM to 3:00 PM\nWednesdays 10:30 AM to 1:00 PM\n\nFor what to expect visit our FAQ page . For questions and other information\, please contact us by emailing slzfoodbank@gmail.com. \nThe San Lorenzo Family Help Center is managed by our Executive Director Janelle Morimoto.
URL:https://www.slzhelp.org/event/food-pick-up-slfhc-dec-21-2024/
LOCATION:San Lorenzo Family Help Center\, 20960 Corsair Blvd\, Hayward \, CA\, United States
CATEGORIES:Food Pick Up
END:VEVENT
BEGIN:VEVENT
DTSTART;TZID=America/Los_Angeles:20241220T103000
DTEND;TZID=America/Los_Angeles:20241220T150000
DTSTAMP:20260419T191640
CREATED:20241124T125653Z
LAST-MODIFIED:20241124T125656Z
UID:2041-1734690600-1734706800@www.slzhelp.org
SUMMARY:Food Pick Up @SLFHC - Dec 20\, 2024
DESCRIPTION:Appointments:\nYou must have an appointment to receive food. Please make your first appointment by calling: (341) 314-6770 during our open hours. \nOpen Hours:\n\nMondays\, Fridays\, and Saturdays – 10:30 AM to 3:00 PM\nWednesdays 10:30 AM to 1:00 PM\n\nFor what to expect visit our FAQ page . For questions and other information\, please contact us by emailing slzfoodbank@gmail.com. \nThe San Lorenzo Family Help Center is managed by our Executive Director Janelle Morimoto.
URL:https://www.slzhelp.org/event/food-pick-up-slfhc-dec-20-2024/
LOCATION:San Lorenzo Family Help Center\, 20960 Corsair Blvd\, Hayward \, CA\, United States
CATEGORIES:Food Pick Up
END:VEVENT
BEGIN:VEVENT
DTSTART;TZID=America/Los_Angeles:20241218T103000
DTEND;TZID=America/Los_Angeles:20241218T130000
DTSTAMP:20260419T191640
CREATED:20241124T125543Z
LAST-MODIFIED:20241124T125545Z
UID:2039-1734517800-1734526800@www.slzhelp.org
SUMMARY:Food Pick Up @SLFHC - Dec 18\, 2024
DESCRIPTION:Appointments:\nYou must have an appointment to receive food. Please make your first appointment by calling: (341) 314-6770 during our open hours. \nOpen Hours:\n\nMondays\, Fridays\, and Saturdays – 10:30 AM to 3:00 PM\nWednesdays 10:30 AM to 1:00 PM\n\nFor what to expect visit our FAQ page . For questions and other information\, please contact us by emailing slzfoodbank@gmail.com. \nThe San Lorenzo Family Help Center is managed by our Executive Director Janelle Morimoto.
URL:https://www.slzhelp.org/event/food-pick-up-slfhc-dec-18-2024/
LOCATION:San Lorenzo Family Help Center\, 20960 Corsair Blvd\, Hayward \, CA\, United States
CATEGORIES:Food Pick Up
END:VEVENT
BEGIN:VEVENT
DTSTART;TZID=America/Los_Angeles:20241216T103000
DTEND;TZID=America/Los_Angeles:20241216T150000
DTSTAMP:20260419T191640
CREATED:20241124T125425Z
LAST-MODIFIED:20241124T125427Z
UID:2037-1734345000-1734361200@www.slzhelp.org
SUMMARY:Food Pick Up @SLFHC - Dec 16\, 2024
DESCRIPTION:Appointments:\nYou must have an appointment to receive food. Please make your first appointment by calling: (341) 314-6770 during our open hours. \nOpen Hours:\n\nMondays\, Fridays\, and Saturdays – 10:30 AM to 3:00 PM\nWednesdays 10:30 AM to 1:00 PM\n\nFor what to expect visit our FAQ page . For questions and other information\, please contact us by emailing slzfoodbank@gmail.com. \nThe San Lorenzo Family Help Center is managed by our Executive Director Janelle Morimoto.
URL:https://www.slzhelp.org/event/food-pick-up-slfhc-dec-16-2024/
LOCATION:San Lorenzo Family Help Center\, 20960 Corsair Blvd\, Hayward \, CA\, United States
CATEGORIES:Food Pick Up
END:VEVENT
BEGIN:VEVENT
DTSTART;TZID=America/Los_Angeles:20241214T103000
DTEND;TZID=America/Los_Angeles:20241214T150000
DTSTAMP:20260419T191640
CREATED:20241124T125213Z
LAST-MODIFIED:20241124T125216Z
UID:2035-1734172200-1734188400@www.slzhelp.org
SUMMARY:Food Pick Up @SLFHC - Dec 14\, 2024
DESCRIPTION:Appointments:\nYou must have an appointment to receive food. Please make your first appointment by calling: (341) 314-6770 during our open hours. \nOpen Hours:\n\nMondays\, Fridays\, and Saturdays – 10:30 AM to 3:00 PM\nWednesdays 10:30 AM to 1:00 PM\n\nFor what to expect visit our FAQ page . For questions and other information\, please contact us by emailing slzfoodbank@gmail.com. \nThe San Lorenzo Family Help Center is managed by our Executive Director Janelle Morimoto.
URL:https://www.slzhelp.org/event/food-pick-up-slfhc-dec-14-2024/
LOCATION:San Lorenzo Family Help Center\, 20960 Corsair Blvd\, Hayward \, CA\, United States
CATEGORIES:Food Pick Up
END:VEVENT
BEGIN:VEVENT
DTSTART;TZID=America/Los_Angeles:20241213T103000
DTEND;TZID=America/Los_Angeles:20241213T150000
DTSTAMP:20260419T191640
CREATED:20241124T124936Z
LAST-MODIFIED:20241124T124944Z
UID:2033-1734085800-1734102000@www.slzhelp.org
SUMMARY:Food Pick Up @SLFHC - Dec 13\, 2024
DESCRIPTION:Appointments:\nYou must have an appointment to receive food. Please make your first appointment by calling: (341) 314-6770 during our open hours. \nOpen Hours:\n\nMondays\, Fridays\, and Saturdays – 10:30 AM to 3:00 PM\nWednesdays 10:30 AM to 1:00 PM\n\nFor what to expect visit our FAQ page . For questions and other information\, please contact us by emailing slzfoodbank@gmail.com. \nThe San Lorenzo Family Help Center is managed by our Executive Director Janelle Morimoto.
URL:https://www.slzhelp.org/event/food-pick-up-slfhc-dec-13-2024/
LOCATION:San Lorenzo Family Help Center\, 20960 Corsair Blvd\, Hayward \, CA\, United States
CATEGORIES:Food Pick Up
END:VEVENT
BEGIN:VEVENT
DTSTART;VALUE=DATE:20241211
DTEND;VALUE=DATE:20241212
DTSTAMP:20260419T191640
CREATED:20241124T124832Z
LAST-MODIFIED:20241124T124835Z
UID:2031-1733875200-1733961599@www.slzhelp.org
SUMMARY:Food Pick Up @SLFHC - Dec 11\, 2024 - Closed
DESCRIPTION:We are closed today.
URL:https://www.slzhelp.org/event/food-pick-up-slfhc-dec-11-2024-closed/
LOCATION:San Lorenzo Family Help Center\, 20960 Corsair Blvd\, Hayward \, CA\, United States
CATEGORIES:Food Pick Up
END:VEVENT
BEGIN:VEVENT
DTSTART;TZID=America/Los_Angeles:20241209T103000
DTEND;TZID=America/Los_Angeles:20241209T150000
DTSTAMP:20260419T191640
CREATED:20241124T124658Z
LAST-MODIFIED:20241124T124701Z
UID:2029-1733740200-1733756400@www.slzhelp.org
SUMMARY:Food Pick Up @SLFHC - Dec 9\, 2024
DESCRIPTION:Appointments:\nYou must have an appointment to receive food. Please make your first appointment by calling: (341) 314-6770 during our open hours. \nOpen Hours:\n\nMondays\, Fridays\, and Saturdays – 10:30 AM to 3:00 PM\nWednesdays 10:30 AM to 1:00 PM\n\nFor what to expect visit our FAQ page . For questions and other information\, please contact us by emailing slzfoodbank@gmail.com. \nThe San Lorenzo Family Help Center is managed by our Executive Director Janelle Morimoto.
URL:https://www.slzhelp.org/event/food-pick-up-slfhc-dec-9-2024/
LOCATION:San Lorenzo Family Help Center\, 20960 Corsair Blvd\, Hayward \, CA\, United States
CATEGORIES:Food Pick Up
END:VEVENT
END:VCALENDAR