BEGIN:VCALENDAR
VERSION:2.0
PRODID:-//San Lorenzo Family Help Center - ECPv6.15.17.1//NONSGML v1.0//EN
CALSCALE:GREGORIAN
METHOD:PUBLISH
X-ORIGINAL-URL:https://www.slzhelp.org
X-WR-CALDESC:Events for San Lorenzo Family Help Center
REFRESH-INTERVAL;VALUE=DURATION:PT1H
X-Robots-Tag:noindex
X-PUBLISHED-TTL:PT1H
BEGIN:VTIMEZONE
TZID:America/Los_Angeles
BEGIN:DAYLIGHT
TZOFFSETFROM:-0800
TZOFFSETTO:-0700
TZNAME:PDT
DTSTART:20250309T100000
END:DAYLIGHT
BEGIN:STANDARD
TZOFFSETFROM:-0700
TZOFFSETTO:-0800
TZNAME:PST
DTSTART:20251102T090000
END:STANDARD
BEGIN:DAYLIGHT
TZOFFSETFROM:-0800
TZOFFSETTO:-0700
TZNAME:PDT
DTSTART:20260308T100000
END:DAYLIGHT
BEGIN:STANDARD
TZOFFSETFROM:-0700
TZOFFSETTO:-0800
TZNAME:PST
DTSTART:20261101T090000
END:STANDARD
BEGIN:DAYLIGHT
TZOFFSETFROM:-0800
TZOFFSETTO:-0700
TZNAME:PDT
DTSTART:20270314T100000
END:DAYLIGHT
BEGIN:STANDARD
TZOFFSETFROM:-0700
TZOFFSETTO:-0800
TZNAME:PST
DTSTART:20271107T090000
END:STANDARD
END:VTIMEZONE
BEGIN:VEVENT
DTSTART;TZID=America/Los_Angeles:20260109T103000
DTEND;TZID=America/Los_Angeles:20260109T150000
DTSTAMP:20260423T204133
CREATED:20260109T030425Z
LAST-MODIFIED:20260109T030427Z
UID:3214-1767954600-1767970800@www.slzhelp.org
SUMMARY:Food Pick Up @SLFHC – January 9\, 2026
DESCRIPTION:Appointments:\nYou must have an appointment to receive food. Please make your first appointment by calling: (341) 314-6770 during our open hours. \nOpen Hours:\n\nMondays\, Fridays\, and Saturdays – 10:30 AM to 3:00 PM\nWednesdays 10:30 AM to 1:30 PM\n\nFor what to expect visit our FAQ page . For questions and other information\, please contact us by emailing slzfoodbank@gmail.com. \nThe San Lorenzo Family Help Center is managed by our Executive Director Janelle Morimoto.
URL:https://www.slzhelp.org/event/food-pick-up-slfhc-january-9-2026/
LOCATION:San Lorenzo Family Help Center\, 20960 Corsair Blvd\, Hayward \, CA\, United States
CATEGORIES:Food Pick Up
END:VEVENT
BEGIN:VEVENT
DTSTART;TZID=America/Los_Angeles:20260110T103000
DTEND;TZID=America/Los_Angeles:20260110T150000
DTSTAMP:20260423T204133
CREATED:20260109T030558Z
LAST-MODIFIED:20260109T030559Z
UID:3218-1768041000-1768057200@www.slzhelp.org
SUMMARY:Food Pick Up @SLFHC – January 10\, 2026
DESCRIPTION:Appointments:\nYou must have an appointment to receive food. Please make your first appointment by calling: (341) 314-6770 during our open hours. \nOpen Hours:\n\nMondays\, Fridays\, and Saturdays – 10:30 AM to 3:00 PM\nWednesdays 10:30 AM to 1:30 PM\n\nFor what to expect visit our FAQ page . For questions and other information\, please contact us by emailing slzfoodbank@gmail.com. \nThe San Lorenzo Family Help Center is managed by our Executive Director Janelle Morimoto.
URL:https://www.slzhelp.org/event/food-pick-up-slfhc-january-10-2026/
LOCATION:San Lorenzo Family Help Center\, 20960 Corsair Blvd\, Hayward \, CA\, United States
CATEGORIES:Food Pick Up
END:VEVENT
BEGIN:VEVENT
DTSTART;TZID=America/Los_Angeles:20260112T103000
DTEND;TZID=America/Los_Angeles:20260112T150000
DTSTAMP:20260423T204133
CREATED:20260109T030703Z
LAST-MODIFIED:20260109T030704Z
UID:3220-1768213800-1768230000@www.slzhelp.org
SUMMARY:Food Pick Up @SLFHC – January 12\, 2026
DESCRIPTION:Appointments:\nYou must have an appointment to receive food. Please make your first appointment by calling: (341) 314-6770 during our open hours. \nOpen Hours:\n\nMondays\, Fridays\, and Saturdays – 10:30 AM to 3:00 PM\nWednesdays 10:30 AM to 1:30 PM\n\nFor what to expect visit our FAQ page . For questions and other information\, please contact us by emailing slzfoodbank@gmail.com. \nThe San Lorenzo Family Help Center is managed by our Executive Director Janelle Morimoto.
URL:https://www.slzhelp.org/event/food-pick-up-slfhc-january-12-2026/
LOCATION:San Lorenzo Family Help Center\, 20960 Corsair Blvd\, Hayward \, CA\, United States
CATEGORIES:Food Pick Up
END:VEVENT
BEGIN:VEVENT
DTSTART;TZID=America/Los_Angeles:20260114T103000
DTEND;TZID=America/Los_Angeles:20260114T133000
DTSTAMP:20260423T204133
CREATED:20260109T030807Z
LAST-MODIFIED:20260109T030808Z
UID:3222-1768386600-1768397400@www.slzhelp.org
SUMMARY:Food Pick Up @SLFHC – January 14\, 2026
DESCRIPTION:Appointments:\nYou must have an appointment to receive food. Please make your first appointment by calling: (341) 314-6770 during our open hours. \nOpen Hours:\n\nMondays\, Fridays\, and Saturdays – 10:30 AM to 3:00 PM\nWednesdays 10:30 AM to 1:30 PM\n\nFor what to expect visit our FAQ page . For questions and other information\, please contact us by emailing slzfoodbank@gmail.com. \nThe San Lorenzo Family Help Center is managed by our Executive Director Janelle Morimoto.
URL:https://www.slzhelp.org/event/food-pick-up-slfhc-january-14-2026/
LOCATION:San Lorenzo Family Help Center\, 20960 Corsair Blvd\, Hayward \, CA\, United States
CATEGORIES:Food Pick Up
END:VEVENT
BEGIN:VEVENT
DTSTART;TZID=America/Los_Angeles:20260116T103000
DTEND;TZID=America/Los_Angeles:20260116T150000
DTSTAMP:20260423T204133
CREATED:20260109T030927Z
LAST-MODIFIED:20260109T030928Z
UID:3224-1768559400-1768575600@www.slzhelp.org
SUMMARY:Food Pick Up @SLFHC – January 16\, 2026
DESCRIPTION:Appointments:\nYou must have an appointment to receive food. Please make your first appointment by calling: (341) 314-6770 during our open hours. \nOpen Hours:\n\nMondays\, Fridays\, and Saturdays – 10:30 AM to 3:00 PM\nWednesdays 10:30 AM to 1:30 PM\n\nFor what to expect visit our FAQ page . For questions and other information\, please contact us by emailing slzfoodbank@gmail.com. \nThe San Lorenzo Family Help Center is managed by our Executive Director Janelle Morimoto.
URL:https://www.slzhelp.org/event/food-pick-up-slfhc-january-16-2026/
LOCATION:San Lorenzo Family Help Center\, 20960 Corsair Blvd\, Hayward \, CA\, United States
CATEGORIES:Food Pick Up
END:VEVENT
BEGIN:VEVENT
DTSTART;VALUE=DATE:20260117
DTEND;VALUE=DATE:20260118
DTSTAMP:20260423T204133
CREATED:20260109T031051Z
LAST-MODIFIED:20260115T163343Z
UID:3226-1768608000-1768694399@www.slzhelp.org
SUMMARY:Closed - January 17\, 2026
DESCRIPTION:We will be closed in honor of Martin Luther King.
URL:https://www.slzhelp.org/event/closed-january-17-2026/
LOCATION:CA
CATEGORIES:Food Pick Up
END:VEVENT
BEGIN:VEVENT
DTSTART;VALUE=DATE:20260119
DTEND;VALUE=DATE:20260120
DTSTAMP:20260423T204133
CREATED:20260109T031120Z
LAST-MODIFIED:20260109T031121Z
UID:3228-1768780800-1768867199@www.slzhelp.org
SUMMARY:Closed - January 19\, 2026
DESCRIPTION:We will be closed in honor of Martin Luther King.
URL:https://www.slzhelp.org/event/closed-january-19-2026/
LOCATION:CA
CATEGORIES:Food Pick Up
END:VEVENT
BEGIN:VEVENT
DTSTART;TZID=America/Los_Angeles:20260121T103000
DTEND;TZID=America/Los_Angeles:20260121T133000
DTSTAMP:20260423T204133
CREATED:20260109T031259Z
LAST-MODIFIED:20260109T031300Z
UID:3230-1768991400-1769002200@www.slzhelp.org
SUMMARY:Food Pick Up @SLFHC – January 21\, 2026
DESCRIPTION:Appointments:\nYou must have an appointment to receive food. Please make your first appointment by calling: (341) 314-6770 during our open hours. \nOpen Hours:\n\nMondays\, Fridays\, and Saturdays – 10:30 AM to 3:00 PM\nWednesdays 10:30 AM to 1:30 PM\n\nFor what to expect visit our FAQ page . For questions and other information\, please contact us by emailing slzfoodbank@gmail.com. \nThe San Lorenzo Family Help Center is managed by our Executive Director Janelle Morimoto.
URL:https://www.slzhelp.org/event/food-pick-up-slfhc-january-21-2026/
LOCATION:San Lorenzo Family Help Center\, 20960 Corsair Blvd\, Hayward \, CA\, United States
CATEGORIES:Food Pick Up
END:VEVENT
BEGIN:VEVENT
DTSTART;TZID=America/Los_Angeles:20260123T103000
DTEND;TZID=America/Los_Angeles:20260123T150000
DTSTAMP:20260423T204133
CREATED:20260109T031340Z
LAST-MODIFIED:20260109T031342Z
UID:3232-1769164200-1769180400@www.slzhelp.org
SUMMARY:Food Pick Up @SLFHC – January 23\, 2026
DESCRIPTION:Appointments:\nYou must have an appointment to receive food. Please make your first appointment by calling: (341) 314-6770 during our open hours. \nOpen Hours:\n\nMondays\, Fridays\, and Saturdays – 10:30 AM to 3:00 PM\nWednesdays 10:30 AM to 1:30 PM\n\nFor what to expect visit our FAQ page . For questions and other information\, please contact us by emailing slzfoodbank@gmail.com. \nThe San Lorenzo Family Help Center is managed by our Executive Director Janelle Morimoto.
URL:https://www.slzhelp.org/event/food-pick-up-slfhc-january-23-2026/
LOCATION:San Lorenzo Family Help Center\, 20960 Corsair Blvd\, Hayward \, CA\, United States
CATEGORIES:Food Pick Up
END:VEVENT
BEGIN:VEVENT
DTSTART;TZID=America/Los_Angeles:20260124T103000
DTEND;TZID=America/Los_Angeles:20260124T150000
DTSTAMP:20260423T204133
CREATED:20260109T031420Z
LAST-MODIFIED:20260109T031422Z
UID:3234-1769250600-1769266800@www.slzhelp.org
SUMMARY:Food Pick Up @SLFHC – January 24\, 2026
DESCRIPTION:Appointments:\nYou must have an appointment to receive food. Please make your first appointment by calling: (341) 314-6770 during our open hours. \nOpen Hours:\n\nMondays\, Fridays\, and Saturdays – 10:30 AM to 3:00 PM\nWednesdays 10:30 AM to 1:30 PM\n\nFor what to expect visit our FAQ page . For questions and other information\, please contact us by emailing slzfoodbank@gmail.com. \nThe San Lorenzo Family Help Center is managed by our Executive Director Janelle Morimoto.
URL:https://www.slzhelp.org/event/food-pick-up-slfhc-january-24-2026/
LOCATION:San Lorenzo Family Help Center\, 20960 Corsair Blvd\, Hayward \, CA\, United States
CATEGORIES:Food Pick Up
END:VEVENT
BEGIN:VEVENT
DTSTART;TZID=America/Los_Angeles:20260126T103000
DTEND;TZID=America/Los_Angeles:20260126T150000
DTSTAMP:20260423T204133
CREATED:20260109T031455Z
LAST-MODIFIED:20260109T031456Z
UID:3236-1769423400-1769439600@www.slzhelp.org
SUMMARY:Food Pick Up @SLFHC – January 26\, 2026
DESCRIPTION:Appointments:\nYou must have an appointment to receive food. Please make your first appointment by calling: (341) 314-6770 during our open hours. \nOpen Hours:\n\nMondays\, Fridays\, and Saturdays – 10:30 AM to 3:00 PM\nWednesdays 10:30 AM to 1:30 PM\n\nFor what to expect visit our FAQ page . For questions and other information\, please contact us by emailing slzfoodbank@gmail.com. \nThe San Lorenzo Family Help Center is managed by our Executive Director Janelle Morimoto.
URL:https://www.slzhelp.org/event/food-pick-up-slfhc-january-26-2026/
LOCATION:San Lorenzo Family Help Center\, 20960 Corsair Blvd\, Hayward \, CA\, United States
CATEGORIES:Food Pick Up
END:VEVENT
BEGIN:VEVENT
DTSTART;TZID=America/Los_Angeles:20260128T103000
DTEND;TZID=America/Los_Angeles:20260128T133000
DTSTAMP:20260423T204133
CREATED:20260109T031541Z
LAST-MODIFIED:20260109T031543Z
UID:3238-1769596200-1769607000@www.slzhelp.org
SUMMARY:Food Pick Up @SLFHC – January 28\, 2026
DESCRIPTION:Appointments:\nYou must have an appointment to receive food. Please make your first appointment by calling: (341) 314-6770 during our open hours. \nOpen Hours:\n\nMondays\, Fridays\, and Saturdays – 10:30 AM to 3:00 PM\nWednesdays 10:30 AM to 1:30 PM\n\nFor what to expect visit our FAQ page . For questions and other information\, please contact us by emailing slzfoodbank@gmail.com. \nThe San Lorenzo Family Help Center is managed by our Executive Director Janelle Morimoto.
URL:https://www.slzhelp.org/event/food-pick-up-slfhc-january-28-2026/
LOCATION:San Lorenzo Family Help Center\, 20960 Corsair Blvd\, Hayward \, CA\, United States
CATEGORIES:Food Pick Up
END:VEVENT
BEGIN:VEVENT
DTSTART;TZID=America/Los_Angeles:20260130T103000
DTEND;TZID=America/Los_Angeles:20260130T150000
DTSTAMP:20260423T204133
CREATED:20260109T031614Z
LAST-MODIFIED:20260109T031615Z
UID:3240-1769769000-1769785200@www.slzhelp.org
SUMMARY:Food Pick Up @SLFHC – January 30\, 2026
DESCRIPTION:Appointments:\nYou must have an appointment to receive food. Please make your first appointment by calling: (341) 314-6770 during our open hours. \nOpen Hours:\n\nMondays\, Fridays\, and Saturdays – 10:30 AM to 3:00 PM\nWednesdays 10:30 AM to 1:30 PM\n\nFor what to expect visit our FAQ page . For questions and other information\, please contact us by emailing slzfoodbank@gmail.com. \nThe San Lorenzo Family Help Center is managed by our Executive Director Janelle Morimoto.
URL:https://www.slzhelp.org/event/food-pick-up-slfhc-january-30-2026/
LOCATION:San Lorenzo Family Help Center\, 20960 Corsair Blvd\, Hayward \, CA\, United States
CATEGORIES:Food Pick Up
END:VEVENT
BEGIN:VEVENT
DTSTART;TZID=America/Los_Angeles:20260131T103000
DTEND;TZID=America/Los_Angeles:20260131T150000
DTSTAMP:20260423T204133
CREATED:20260109T031654Z
LAST-MODIFIED:20260109T031655Z
UID:3242-1769855400-1769871600@www.slzhelp.org
SUMMARY:Food Pick Up @SLFHC – January 31\, 2026
DESCRIPTION:Appointments:\nYou must have an appointment to receive food. Please make your first appointment by calling: (341) 314-6770 during our open hours. \nOpen Hours:\n\nMondays\, Fridays\, and Saturdays – 10:30 AM to 3:00 PM\nWednesdays 10:30 AM to 1:30 PM\n\nFor what to expect visit our FAQ page . For questions and other information\, please contact us by emailing slzfoodbank@gmail.com. \nThe San Lorenzo Family Help Center is managed by our Executive Director Janelle Morimoto.
URL:https://www.slzhelp.org/event/food-pick-up-slfhc-january-31-2026/
LOCATION:San Lorenzo Family Help Center\, 20960 Corsair Blvd\, Hayward \, CA\, United States
CATEGORIES:Food Pick Up
END:VEVENT
END:VCALENDAR