BEGIN:VCALENDAR
VERSION:2.0
PRODID:-//San Lorenzo Family Help Center - ECPv6.15.17.1//NONSGML v1.0//EN
CALSCALE:GREGORIAN
METHOD:PUBLISH
X-WR-CALNAME:San Lorenzo Family Help Center
X-ORIGINAL-URL:https://www.slzhelp.org
X-WR-CALDESC:Events for San Lorenzo Family Help Center
REFRESH-INTERVAL;VALUE=DURATION:PT1H
X-Robots-Tag:noindex
X-PUBLISHED-TTL:PT1H
BEGIN:VTIMEZONE
TZID:America/Los_Angeles
BEGIN:DAYLIGHT
TZOFFSETFROM:-0800
TZOFFSETTO:-0700
TZNAME:PDT
DTSTART:20240310T100000
END:DAYLIGHT
BEGIN:STANDARD
TZOFFSETFROM:-0700
TZOFFSETTO:-0800
TZNAME:PST
DTSTART:20241103T090000
END:STANDARD
BEGIN:DAYLIGHT
TZOFFSETFROM:-0800
TZOFFSETTO:-0700
TZNAME:PDT
DTSTART:20250309T100000
END:DAYLIGHT
BEGIN:STANDARD
TZOFFSETFROM:-0700
TZOFFSETTO:-0800
TZNAME:PST
DTSTART:20251102T090000
END:STANDARD
BEGIN:DAYLIGHT
TZOFFSETFROM:-0800
TZOFFSETTO:-0700
TZNAME:PDT
DTSTART:20260308T100000
END:DAYLIGHT
BEGIN:STANDARD
TZOFFSETFROM:-0700
TZOFFSETTO:-0800
TZNAME:PST
DTSTART:20261101T090000
END:STANDARD
END:VTIMEZONE
BEGIN:VEVENT
DTSTART;TZID=America/Los_Angeles:20250815T103000
DTEND;TZID=America/Los_Angeles:20250815T150000
DTSTAMP:20260424T185156
CREATED:20250723T053123Z
LAST-MODIFIED:20250814T034836Z
UID:2873-1755253800-1755270000@www.slzhelp.org
SUMMARY:Food Pick Up @SLFHC – August 15\, 2025
DESCRIPTION:Appointments:\nYou must have an appointment to receive food. Please make your first appointment by calling: (341) 314-6770 during our open hours. \nOpen Hours:\n\nMondays\, Fridays\, and Saturdays – 10:30 AM to 3:00 PM\nWednesdays 10:30 AM to 2:00 PM\n\nFor what to expect visit our FAQ page . For questions and other information\, please contact us by emailing slzfoodbank@gmail.com. \nThe San Lorenzo Family Help Center is managed by our Executive Director Janelle Morimoto.
URL:https://www.slzhelp.org/event/food-pick-up-slfhc-august-15-2025/
LOCATION:San Lorenzo Family Help Center\, 20960 Corsair Blvd\, Hayward \, CA\, United States
CATEGORIES:Food Pick Up
END:VEVENT
BEGIN:VEVENT
DTSTART;TZID=America/Los_Angeles:20250816T103000
DTEND;TZID=America/Los_Angeles:20250816T150000
DTSTAMP:20260424T185156
CREATED:20250723T053200Z
LAST-MODIFIED:20250814T034817Z
UID:2875-1755340200-1755356400@www.slzhelp.org
SUMMARY:Food Pick Up @SLFHC – August 16\, 2025
DESCRIPTION:Appointments:\nYou must have an appointment to receive food. Please make your first appointment by calling: (341) 314-6770 during our open hours. \nOpen Hours:\n\nMondays\, Fridays\, and Saturdays – 10:30 AM to 3:00 PM\nWednesdays 10:30 AM to 2:00 PM\n\nFor what to expect visit our FAQ page . For questions and other information\, please contact us by emailing slzfoodbank@gmail.com. \nThe San Lorenzo Family Help Center is managed by our Executive Director Janelle Morimoto.
URL:https://www.slzhelp.org/event/food-pick-up-slfhc-august-16-2025/
LOCATION:San Lorenzo Family Help Center\, 20960 Corsair Blvd\, Hayward \, CA\, United States
CATEGORIES:Food Pick Up
END:VEVENT
BEGIN:VEVENT
DTSTART;TZID=America/Los_Angeles:20250818T103000
DTEND;TZID=America/Los_Angeles:20250818T150000
DTSTAMP:20260424T185156
CREATED:20250723T053301Z
LAST-MODIFIED:20250814T034807Z
UID:2877-1755513000-1755529200@www.slzhelp.org
SUMMARY:Food Pick Up @SLFHC – August 18\, 2025
DESCRIPTION:Appointments:\nYou must have an appointment to receive food. Please make your first appointment by calling: (341) 314-6770 during our open hours. \nOpen Hours:\n\nMondays\, Fridays\, and Saturdays – 10:30 AM to 3:00 PM\nWednesdays 10:30 AM to 2:00 PM\n\nFor what to expect visit our FAQ page . For questions and other information\, please contact us by emailing slzfoodbank@gmail.com. \nThe San Lorenzo Family Help Center is managed by our Executive Director Janelle Morimoto.
URL:https://www.slzhelp.org/event/food-pick-up-slfhc-august-18-2025/
LOCATION:San Lorenzo Family Help Center\, 20960 Corsair Blvd\, Hayward \, CA\, United States
CATEGORIES:Food Pick Up
END:VEVENT
BEGIN:VEVENT
DTSTART;TZID=America/Los_Angeles:20250822T103000
DTEND;TZID=America/Los_Angeles:20250822T150000
DTSTAMP:20260424T185156
CREATED:20250723T053456Z
LAST-MODIFIED:20250814T034755Z
UID:2881-1755858600-1755874800@www.slzhelp.org
SUMMARY:Food Pick Up @SLFHC – August 22\, 2025
DESCRIPTION:Appointments:\nYou must have an appointment to receive food. Please make your first appointment by calling: (341) 314-6770 during our open hours. \nOpen Hours:\n\nMondays\, Fridays\, and Saturdays – 10:30 AM to 3:00 PM\nWednesdays 10:30 AM to 2:00 PM\n\nFor what to expect visit our FAQ page . For questions and other information\, please contact us by emailing slzfoodbank@gmail.com. \nThe San Lorenzo Family Help Center is managed by our Executive Director Janelle Morimoto.
URL:https://www.slzhelp.org/event/food-pick-up-slfhc-august-22-2025/
LOCATION:San Lorenzo Family Help Center\, 20960 Corsair Blvd\, Hayward \, CA\, United States
CATEGORIES:Food Pick Up
END:VEVENT
BEGIN:VEVENT
DTSTART;TZID=America/Los_Angeles:20250823T103000
DTEND;TZID=America/Los_Angeles:20250823T150000
DTSTAMP:20260424T185156
CREATED:20250723T053541Z
LAST-MODIFIED:20250814T034615Z
UID:2883-1755945000-1755961200@www.slzhelp.org
SUMMARY:Food Pick Up @SLFHC – August 23\, 2025
DESCRIPTION:Appointments:\nYou must have an appointment to receive food. Please make your first appointment by calling: (341) 314-6770 during our open hours. \nOpen Hours:\n\nMondays\, Fridays\, and Saturdays – 10:30 AM to 3:00 PM\nWednesdays 10:30 AM to 2:00 PM\n\nFor what to expect visit our FAQ page . For questions and other information\, please contact us by emailing slzfoodbank@gmail.com. \nThe San Lorenzo Family Help Center is managed by our Executive Director Janelle Morimoto.
URL:https://www.slzhelp.org/event/food-pick-up-slfhc-august-23-2025/
LOCATION:San Lorenzo Family Help Center\, 20960 Corsair Blvd\, Hayward \, CA\, United States
CATEGORIES:Food Pick Up
END:VEVENT
BEGIN:VEVENT
DTSTART;TZID=America/Los_Angeles:20250825T103000
DTEND;TZID=America/Los_Angeles:20250825T150000
DTSTAMP:20260424T185156
CREATED:20250723T053640Z
LAST-MODIFIED:20250814T034739Z
UID:2885-1756117800-1756134000@www.slzhelp.org
SUMMARY:Food Pick Up @SLFHC – August 25\, 2025
DESCRIPTION:Appointments:\nYou must have an appointment to receive food. Please make your first appointment by calling: (341) 314-6770 during our open hours. \nOpen Hours:\n\nMondays\, Fridays\, and Saturdays – 10:30 AM to 3:00 PM\nWednesdays 10:30 AM to 2:00 PM\n\nFor what to expect visit our FAQ page . For questions and other information\, please contact us by emailing slzfoodbank@gmail.com. \nThe San Lorenzo Family Help Center is managed by our Executive Director Janelle Morimoto.
URL:https://www.slzhelp.org/event/food-pick-up-slfhc-august-25-2025/
LOCATION:San Lorenzo Family Help Center\, 20960 Corsair Blvd\, Hayward \, CA\, United States
CATEGORIES:Food Pick Up
END:VEVENT
BEGIN:VEVENT
DTSTART;TZID=America/Los_Angeles:20250827T103000
DTEND;TZID=America/Los_Angeles:20250827T140000
DTSTAMP:20260424T185156
CREATED:20250723T053733Z
LAST-MODIFIED:20250815T040457Z
UID:2887-1756290600-1756303200@www.slzhelp.org
SUMMARY:Food Pick Up @SLFHC – August 27\, 2025
DESCRIPTION:Appointments:\nYou must have an appointment to receive food. Please make your first appointment by calling: (341) 314-6770 during our open hours. \nOpen Hours:\n\nMondays\, Fridays\, and Saturdays – 10:30 AM to 3:00 PM\nWednesdays 10:30 AM to 2:00 PM\n\nFor what to expect visit our FAQ page . For questions and other information\, please contact us by emailing slzfoodbank@gmail.com. \nThe San Lorenzo Family Help Center is managed by our Executive Director Janelle Morimoto.
URL:https://www.slzhelp.org/event/food-pick-up-slfhc-august-27-2025/
LOCATION:San Lorenzo Family Help Center\, 20960 Corsair Blvd\, Hayward \, CA\, United States
CATEGORIES:Food Pick Up
END:VEVENT
BEGIN:VEVENT
DTSTART;TZID=America/Los_Angeles:20250829T103000
DTEND;TZID=America/Los_Angeles:20250829T150000
DTSTAMP:20260424T185156
CREATED:20250723T053813Z
LAST-MODIFIED:20250814T034725Z
UID:2889-1756463400-1756479600@www.slzhelp.org
SUMMARY:Food Pick Up @SLFHC – August 29\, 2025
DESCRIPTION:Appointments:\nYou must have an appointment to receive food. Please make your first appointment by calling: (341) 314-6770 during our open hours. \nOpen Hours:\n\nMondays\, Fridays\, and Saturdays – 10:30 AM to 3:00 PM\nWednesdays 10:30 AM to 2:00 PM\n\nFor what to expect visit our FAQ page . For questions and other information\, please contact us by emailing slzfoodbank@gmail.com. \nThe San Lorenzo Family Help Center is managed by our Executive Director Janelle Morimoto.
URL:https://www.slzhelp.org/event/food-pick-up-slfhc-august-29-2025/
LOCATION:San Lorenzo Family Help Center\, 20960 Corsair Blvd\, Hayward \, CA\, United States
CATEGORIES:Food Pick Up
END:VEVENT
BEGIN:VEVENT
DTSTART;VALUE=DATE:20250830
DTEND;VALUE=DATE:20250831
DTSTAMP:20260424T185156
CREATED:20250723T053931Z
LAST-MODIFIED:20250814T035129Z
UID:2891-1756512000-1756598399@www.slzhelp.org
SUMMARY:CLOSED - August 30\, 2025
DESCRIPTION:Closed for today.
URL:https://www.slzhelp.org/event/closed-august-30-2025/
LOCATION:CA
CATEGORIES:Food Pick Up
END:VEVENT
END:VCALENDAR